BEGIN:VCALENDAR
VERSION:2.0
METHOD:PUBLISH
PRODID:-//Telerik Inc.//Sitefinity CMS 15.3//EN
BEGIN:VEVENT
DESCRIPTION:This event will be virtual via Zoom. &nbsp\;More information to
  come.&nbsp\;
DTEND;VALUE=DATE:20260613
DTSTAMP:20260424T134234Z
DTSTART;VALUE=DATE:20260612
LOCATION:
SEQUENCE:0
SUMMARY:INFB Policy 101: Shepherding Ideas into Laws
UID:RFCALITEM639126205544852728
X-ALT-DESC;FMTTYPE=text/html:<p>This event will be virtual via Zoom. </p><p
 >&nbsp\;</p><p><strong><em>More information to come.</em></strong></p><p><
 strong><em>&nbsp\;</em></strong></p>
END:VEVENT
END:VCALENDAR
