BEGIN:VCALENDAR
VERSION:2.0
METHOD:PUBLISH
PRODID:-//Telerik Inc.//Sitefinity CMS 15.3//EN
BEGIN:VEVENT
DESCRIPTION:&nbsp\;More information to come. 
DTEND;VALUE=DATE:20260614
DTSTAMP:20260424T134026Z
DTSTART;VALUE=DATE:20260613
LOCATION:
SEQUENCE:0
SUMMARY:YF&AP Day at Fair Oaks Farms
UID:RFCALITEM639126204261669149
X-ALT-DESC;FMTTYPE=text/html:<p>&nbsp\;</p><p><strong><em>More information 
 to come. </em></strong></p>
END:VEVENT
END:VCALENDAR
