BEGIN:VCALENDAR
VERSION:2.0
METHOD:PUBLISH
PRODID:-//Telerik Inc.//Sitefinity CMS 15.3//EN
BEGIN:VEVENT
DESCRIPTION:&nbsp\;More information to come. 
DTEND;VALUE=DATE:20260823
DTSTAMP:20260424T134914Z
DTSTART;VALUE=DATE:20260822
LOCATION:
SEQUENCE:0
SUMMARY:Delegate Session
UID:RFCALITEM639126209548488188
X-ALT-DESC;FMTTYPE=text/html:<p><em><strong>&nbsp\;</strong></em></p><p><em
 ><strong>More information to come. </strong></em></p>
END:VEVENT
END:VCALENDAR
