BEGIN:VCALENDAR
VERSION:2.0
METHOD:PUBLISH
PRODID:-//Telerik Inc.//Sitefinity CMS 15.3//EN
BEGIN:VEVENT
DESCRIPTION:This event will be virtual via Zoom.&nbsp\;&nbsp\;More informat
 ion to come. &nbsp\;&nbsp\;
DTEND;VALUE=DATE:20260717
DTSTAMP:20260424T134607Z
DTSTART;VALUE=DATE:20260716
LOCATION:
SEQUENCE:0
SUMMARY:INAgLaw Foundation Estate & Succession Planning
UID:RFCALITEM639126207674042992
X-ALT-DESC;FMTTYPE=text/html:<p>This event will be virtual via Zoom.&nbsp\;
 </p><p>&nbsp\;</p><p><strong><em>More information to come. </em></strong><
 /p><p><strong><em>&nbsp\;</em></strong></p><p><strong><em>&nbsp\;</em></st
 rong></p>
END:VEVENT
END:VCALENDAR
