BEGIN:VCALENDAR
VERSION:2.0
METHOD:PUBLISH
PRODID:-//Telerik Inc.//Sitefinity CMS 15.3//EN
BEGIN:VEVENT
DESCRIPTION:&nbsp\;More information to come. 
DTEND;VALUE=DATE:20260822
DTSTAMP:20260424T134157Z
DTSTART;VALUE=DATE:20260821
LOCATION:
SEQUENCE:0
SUMMARY:Critical Issues Summit
UID:RFCALITEM639126205178094586
X-ALT-DESC;FMTTYPE=text/html:<p><em><strong>&nbsp\;</strong></em></p><p><em
 ><strong>More information to come. </strong></em></p>
END:VEVENT
END:VCALENDAR
