BEGIN:VCALENDAR
VERSION:2.0
METHOD:PUBLISH
PRODID:-//Telerik Inc.//Sitefinity CMS 15.3//EN
BEGIN:VEVENT
DESCRIPTION:This event will be virtual via Zoom.&nbsp\;More information to 
 come. &nbsp\;&nbsp\;
DTEND;VALUE=DATE:20260625
DTSTAMP:20260424T135912Z
DTSTART;VALUE=DATE:20260624
LOCATION:
SEQUENCE:0
SUMMARY:Data Center Program
UID:RFCALITEM639126215528147886
X-ALT-DESC;FMTTYPE=text/html:<p>This event will be virtual via Zoom.</p><p>
 &nbsp\;</p><p><strong><em>More information to come.</em></strong> </p><p>&
 nbsp\;</p><p>&nbsp\;</p>
END:VEVENT
END:VCALENDAR
